BEGIN:VCALENDAR
VERSION:2.0
PRODID:-//MUSEO IXCHEL - ECPv6.15.11//NONSGML v1.0//EN
CALSCALE:GREGORIAN
METHOD:PUBLISH
X-WR-CALNAME:MUSEO IXCHEL
X-ORIGINAL-URL:https://museoixchel.org
X-WR-CALDESC:Eventos para MUSEO IXCHEL
REFRESH-INTERVAL;VALUE=DURATION:PT1H
X-Robots-Tag:noindex
X-PUBLISHED-TTL:PT1H
BEGIN:VTIMEZONE
TZID:America/Guatemala
BEGIN:STANDARD
TZOFFSETFROM:-0600
TZOFFSETTO:-0600
TZNAME:CST
DTSTART:20230101T000000
END:STANDARD
END:VTIMEZONE
BEGIN:VEVENT
DTSTART;TZID=America/Guatemala:20240509T100000
DTEND;TZID=America/Guatemala:20240509T110000
DTSTAMP:20260422T130652
CREATED:20240502T152805Z
LAST-MODIFIED:20240503T145724Z
UID:3646-1715248800-1715252400@museoixchel.org
SUMMARY:Análisis Técnico
DESCRIPTION:🌐 Conferencia ONLINE \n“Análisis Técnico de Dos Pollkü ngütrowe» \nImparte desde Chile 🇨🇱Catalina Encina Jara📣 Vía Zoom🕙 Horario: 10:00 a.m📆 Fecha: jueves 9 de mayo \nℹ️ Solicita el link:• Whatsapp: (502) 3614-7252• Correo: educacion@museoixchel.org \n📸 IMAGEN: Pollkü ngütrowe (faja trenzadora)\, Wallmapu\, Región de la Araucanía\, Chile\, Segunda mitad del siglo XIX. Tejido a telar en lana de oveja. Aplicaciones de aleación de plata repujada. 339 cm x 4\,5 cm. Colección Museo de Arte Popular Americano Tomás Lago (MAPA). Facultad de Artes\, Universidad de Chile.
URL:https://museoixchel.org/evento/analisis-tecnico/
CATEGORIES:Conferencias
ATTACH;FMTTYPE=image/jpeg:https://museoixchel.org/wp-content/uploads/2024/05/9-mayo_evento.jpg
ORGANIZER;CN="Museo Ixchel":MAILTO:educacion@museoixchel.org
END:VEVENT
END:VCALENDAR