BEGIN:VCALENDAR
VERSION:2.0
PRODID:-//MUSEO IXCHEL - ECPv6.15.11//NONSGML v1.0//EN
CALSCALE:GREGORIAN
METHOD:PUBLISH
X-WR-CALNAME:MUSEO IXCHEL
X-ORIGINAL-URL:https://museoixchel.org
X-WR-CALDESC:Eventos para MUSEO IXCHEL
REFRESH-INTERVAL;VALUE=DURATION:PT1H
X-Robots-Tag:noindex
X-PUBLISHED-TTL:PT1H
BEGIN:VTIMEZONE
TZID:America/Guatemala
BEGIN:STANDARD
TZOFFSETFROM:-0600
TZOFFSETTO:-0600
TZNAME:CST
DTSTART:20250101T000000
END:STANDARD
END:VTIMEZONE
BEGIN:VEVENT
DTSTART;TZID=America/Guatemala:20260113T180000
DTEND;TZID=America/Guatemala:20260113T210000
DTSTAMP:20260422T093108
CREATED:20260113T163050Z
LAST-MODIFIED:20260113T164805Z
UID:6357-1768327200-1768338000@museoixchel.org
SUMMARY:Andrés Curruchich y su legado permanente
DESCRIPTION:🍾 INAUGURACIÓN 🍾\n¡Andrés Curruchich y su legado permanente! \nSus cuadros pueden servir como ventanas a la riqueza de un pueblo\, rodeado de montañas cubiertas de bosques y campos plantados de maíz. \n• Catálogo Andrés Curruchich y su legado permanente \n📆 Fecha: 13 de enero\n🕙 Horario: 6:00pm a 9:00pm\n📍 Lugar: Museo Ixchel del Traje Indígena \n🎟️ ENTRADA LIBRE\n🚘 Parqueo: Q 40.00 en efectivo.
URL:https://museoixchel.org/evento/andres-curruchich-y-su-legado-permanente/
LOCATION:Museo Ixchel\, 6ta. calle final zona 10\, Guatemala\, Guatemala\, 01010\, Guatemala
CATEGORIES:Exposiciones
ATTACH;FMTTYPE=image/jpeg:https://museoixchel.org/wp-content/uploads/2026/01/expo_curruchich_enero.jpg
ORGANIZER;CN="Museo Ixchel":MAILTO:educacion@museoixchel.org
END:VEVENT
END:VCALENDAR