BEGIN:VCALENDAR
VERSION:2.0
PRODID:-//MUSEO IXCHEL - ECPv6.15.11//NONSGML v1.0//EN
CALSCALE:GREGORIAN
METHOD:PUBLISH
X-WR-CALNAME:MUSEO IXCHEL
X-ORIGINAL-URL:https://museoixchel.org
X-WR-CALDESC:Eventos para MUSEO IXCHEL
REFRESH-INTERVAL;VALUE=DURATION:PT1H
X-Robots-Tag:noindex
X-PUBLISHED-TTL:PT1H
BEGIN:VTIMEZONE
TZID:America/Guatemala
BEGIN:STANDARD
TZOFFSETFROM:-0600
TZOFFSETTO:-0600
TZNAME:CST
DTSTART:20240101T000000
END:STANDARD
END:VTIMEZONE
BEGIN:VEVENT
DTSTART;TZID=America/Guatemala:20250311T100000
DTEND;TZID=America/Guatemala:20250311T123000
DTSTAMP:20260422T102230
CREATED:20250310T174706Z
LAST-MODIFIED:20250310T183519Z
UID:5677-1741687200-1741696200@museoixchel.org
SUMMARY:Conferencia El Tun
DESCRIPTION:CONFERENCIAEl tun\, en la indumentaria ceremonial femenina de Palín\, Escuintla. \nEl «Tun» es un tocado distintivo de la indumentaria poqomam de Palín\, Escuintla. Esta charla ofrecerá una breve descripción histórica de su relevancia y resaltará su importancia dentro de la vestimenta tradicional. \nEl «Tun» no solo representa un elemento de identidad\, sino también un símbolo de jerarquía social y religiosa dentro de la comunidad poqomam. \n👥 Actividad Presencial🕙 Horario: 10:00 a.m📆 Fecha: martes 11 de marzo📍 Dirección: 6ta calle final\, zona 10\, interior campus UFM \n🚙 Parqueo: tarifa especial de Q40⚠️ Sólo efectivo ⚠️ \nℹ️ Más información:Whatsapp: (502) 3614-7252Correo: educacion@museoixchel.org
URL:https://museoixchel.org/evento/conferencia-el-tun/
LOCATION:Museo Ixchel\, 6ta. calle final zona 10\, Guatemala\, Guatemala\, 01010\, Guatemala
CATEGORIES:Conferencias
ATTACH;FMTTYPE=image/jpeg:https://museoixchel.org/wp-content/uploads/2025/03/conferencia_eltun.jpg
ORGANIZER;CN="Museo Ixchel":MAILTO:educacion@museoixchel.org
END:VEVENT
END:VCALENDAR