BEGIN:VCALENDAR
VERSION:2.0
PRODID:-//MUSEO IXCHEL - ECPv6.15.11//NONSGML v1.0//EN
CALSCALE:GREGORIAN
METHOD:PUBLISH
X-WR-CALNAME:MUSEO IXCHEL
X-ORIGINAL-URL:https://museoixchel.org
X-WR-CALDESC:Eventos para MUSEO IXCHEL
REFRESH-INTERVAL;VALUE=DURATION:PT1H
X-Robots-Tag:noindex
X-PUBLISHED-TTL:PT1H
BEGIN:VTIMEZONE
TZID:America/Guatemala
BEGIN:STANDARD
TZOFFSETFROM:-0600
TZOFFSETTO:-0600
TZNAME:CST
DTSTART:20230101T000000
END:STANDARD
END:VTIMEZONE
BEGIN:VEVENT
DTSTART;TZID=America/Guatemala:20240826T110000
DTEND;TZID=America/Guatemala:20240826T130000
DTSTAMP:20260422T101454
CREATED:20240823T153157Z
LAST-MODIFIED:20240823T155230Z
UID:4123-1724670000-1724677200@museoixchel.org
SUMMARY:Conferencia ONLINE
DESCRIPTION:📣 CONFERENCIA ONLINE \n«Los costales como ayuda navegacional para los llameros de Tumaykuri\, Bolivia» \nDesde USA 🇺🇲Imparte: Cassandra Torrico \nSe hablará sobre los costales tejidos a mano con la fibra de llamos\, de los llameros de la puna del Ayllu Macha en el Norte de Potosí\, Bolivia\, y se explora el rol del tejido en la mediación de las relaciones humano-animales. \n🌐 Actividad en línea🕙 Horario: 11:00 a.m📆 Fecha: lunes 26 de agosto \nℹ️ Solicita el link:• Whatsapp: (502) 3614-7252• Correo: educacion@museoixchel.org
URL:https://museoixchel.org/evento/conferencia-online-2/
CATEGORIES:Conferencias
ATTACH;FMTTYPE=image/jpeg:https://museoixchel.org/wp-content/uploads/2024/08/26-agosto_evento.jpg
ORGANIZER;CN="Museo Ixchel":MAILTO:educacion@museoixchel.org
END:VEVENT
END:VCALENDAR