BEGIN:VCALENDAR
VERSION:2.0
PRODID:-//MUSEO IXCHEL - ECPv6.15.11//NONSGML v1.0//EN
CALSCALE:GREGORIAN
METHOD:PUBLISH
X-WR-CALNAME:MUSEO IXCHEL
X-ORIGINAL-URL:https://museoixchel.org
X-WR-CALDESC:Eventos para MUSEO IXCHEL
REFRESH-INTERVAL;VALUE=DURATION:PT1H
X-Robots-Tag:noindex
X-PUBLISHED-TTL:PT1H
BEGIN:VTIMEZONE
TZID:America/Guatemala
BEGIN:STANDARD
TZOFFSETFROM:-0600
TZOFFSETTO:-0600
TZNAME:CST
DTSTART:20230101T000000
END:STANDARD
END:VTIMEZONE
BEGIN:VEVENT
DTSTART;TZID=America/Guatemala:20240530T060000
DTEND;TZID=America/Guatemala:20240530T170000
DTSTAMP:20260422T095017
CREATED:20240503T143302Z
LAST-MODIFIED:20240514T172128Z
UID:3672-1717048800-1717088400@museoixchel.org
SUMMARY:Corpus Christi en Patzún
DESCRIPTION:GIRA EDUCATIVACorpus Christi en Patzún\, Chimaltenango \n🔎 GUÍA: Edwin Castro📆 Jueves 30 de mayo 2024❇️ Q450.00 por persona🕔 6:00 a 17:00hrs📍PUNTO DE REUNIÓN: Museo Ixchel del Traje Indígena \nLas calles de Patzún se llenan de colorido\, altares y alfombras 60 días después del Domingo de Resurrección para celebrar el Corpus Christi. \nEn esta actividad formativa visitaremos la comunidad de Patzún\, Chimaltenango\, ubicado en el km 81 de la ruta Interamericana\, para presenciar esta celebración. \n✅ ¿Qué incluye?• Transporte cómodo• Guía por expertos etnográficos• Staff de apoyo del museo• Almuerzo tradicional• Botiquín de primeros auxilios \n✅ ¿Qué debes llevar?• Bloqueador solar• Zapatos cómodos• Ropa adecuada para clima templado• Gorra o sombrero• Sombrilla para el sol y/o lluvia• Cámara o celular con suficiente batería• Dinero adicional para gastos personales• Documentos de identificación \nℹ️ MAYOR INFORMACIÓN:💬 WhatsApp (+502) 3614-7252
URL:https://museoixchel.org/evento/corpus-christi-en-patzun/
CATEGORIES:Exposiciones
ATTACH;FMTTYPE=image/jpeg:https://museoixchel.org/wp-content/uploads/2024/05/30-mayo_evento.jpg
ORGANIZER;CN="Museo Ixchel":MAILTO:educacion@museoixchel.org
END:VEVENT
END:VCALENDAR