BEGIN:VCALENDAR
VERSION:2.0
PRODID:-//MUSEO IXCHEL - ECPv6.15.11//NONSGML v1.0//EN
CALSCALE:GREGORIAN
METHOD:PUBLISH
X-WR-CALNAME:MUSEO IXCHEL
X-ORIGINAL-URL:https://museoixchel.org
X-WR-CALDESC:Eventos para MUSEO IXCHEL
REFRESH-INTERVAL;VALUE=DURATION:PT1H
X-Robots-Tag:noindex
X-PUBLISHED-TTL:PT1H
BEGIN:VTIMEZONE
TZID:America/Guatemala
BEGIN:STANDARD
TZOFFSETFROM:-0600
TZOFFSETTO:-0600
TZNAME:CST
DTSTART:20240101T000000
END:STANDARD
END:VTIMEZONE
BEGIN:VEVENT
DTSTART;TZID=America/Guatemala:20250402T100000
DTEND;TZID=America/Guatemala:20250402T123000
DTSTAMP:20260422T095609
CREATED:20250320T232856Z
LAST-MODIFIED:20250320T233810Z
UID:5693-1743588000-1743597000@museoixchel.org
SUMMARY:El vestuario como pieza artística
DESCRIPTION:🎤 CONFERENCIA ONLINEEl vestuario como pieza artísticaImparte desde México 🇲🇽Laura Marnezti \n📡 Actividad Online🕙 HORARIO: 10:00 a.m📆 FECHA: miércoles 2 de abril 2025Vía ZOOM \nConoce acerca del laboratorio El Vestuario como Pieza Artística\, iniciativa que ha viajado por México\, Praga\, Concepción\, Santiago y próximamente Guatemala. \nLaura compartirá su postura personal sobre el diseño de vestuario como un soporte de obra\, capaz de transmitir ideas\, emociones y conceptos que enriquecen cualquier proyecto artístico. \nConoceremos más sobre la dinámica de este laboratorio\, un espacio donde se crean piezas que fusionan el vestuario y la escultura. \nAdemás\, compartirá la importancia de construir un espacio que fomente la reflexión crítica\, la experimentación y la libertad de expresión\, ofreciendo un entorno seguro para que cada participante desarrolle su propuesta única desde una mirada reflexiva y artística \nGracias a la colaboración de Casa Guardabarranco \nℹ️ Solicita el enlace:Whatsapp: (502) 3614-7252Correo: educacion@museoixchel.org
URL:https://museoixchel.org/evento/el-vestuario-como-pieza-artistica/
CATEGORIES:Conferencias
ATTACH;FMTTYPE=image/jpeg:https://museoixchel.org/wp-content/uploads/2025/03/conferencia_online.jpg
ORGANIZER;CN="Museo Ixchel":MAILTO:educacion@museoixchel.org
END:VEVENT
END:VCALENDAR