BEGIN:VCALENDAR
VERSION:2.0
PRODID:-//MUSEO IXCHEL - ECPv6.15.11//NONSGML v1.0//EN
CALSCALE:GREGORIAN
METHOD:PUBLISH
X-WR-CALNAME:MUSEO IXCHEL
X-ORIGINAL-URL:https://museoixchel.org
X-WR-CALDESC:Eventos para MUSEO IXCHEL
REFRESH-INTERVAL;VALUE=DURATION:PT1H
X-Robots-Tag:noindex
X-PUBLISHED-TTL:PT1H
BEGIN:VTIMEZONE
TZID:America/Guatemala
BEGIN:STANDARD
TZOFFSETFROM:-0600
TZOFFSETTO:-0600
TZNAME:CST
DTSTART:20220101T000000
END:STANDARD
END:VTIMEZONE
BEGIN:VEVENT
DTSTART;TZID=America/Guatemala:20230627T120000
DTEND;TZID=America/Guatemala:20230627T140000
DTSTAMP:20260422T130108
CREATED:20230930T001115Z
LAST-MODIFIED:20231024T234902Z
UID:1492-1687867200-1687874400@museoixchel.org
SUMMARY:Experimental con obsidiana
DESCRIPTION:La Piedra del Rayo \nIMPARTE: Selvin García. 4 sesiones.– CUPO LIMITADO – \n• Actividad en línea.
URL:https://museoixchel.org/evento/experimental-con-obsidiana/
CATEGORIES:Talleres
ATTACH;FMTTYPE=image/jpeg:https://museoixchel.org/wp-content/uploads/2023/09/taller_0623.jpg
ORGANIZER;CN="Museo Ixchel":MAILTO:educacion@museoixchel.org
END:VEVENT
END:VCALENDAR