BEGIN:VCALENDAR
VERSION:2.0
PRODID:-//MUSEO IXCHEL - ECPv6.15.11//NONSGML v1.0//EN
CALSCALE:GREGORIAN
METHOD:PUBLISH
X-WR-CALNAME:MUSEO IXCHEL
X-ORIGINAL-URL:https://museoixchel.org
X-WR-CALDESC:Eventos para MUSEO IXCHEL
REFRESH-INTERVAL;VALUE=DURATION:PT1H
X-Robots-Tag:noindex
X-PUBLISHED-TTL:PT1H
BEGIN:VTIMEZONE
TZID:America/Guatemala
BEGIN:STANDARD
TZOFFSETFROM:-0600
TZOFFSETTO:-0600
TZNAME:CST
DTSTART:20230101T000000
END:STANDARD
END:VTIMEZONE
BEGIN:VEVENT
DTSTART;TZID=America/Guatemala:20240924T100000
DTEND;TZID=America/Guatemala:20240924T123000
DTSTAMP:20260422T094617
CREATED:20240920T153328Z
LAST-MODIFIED:20240920T154153Z
UID:4211-1727172000-1727181000@museoixchel.org
SUMMARY:Formas y Colores
DESCRIPTION:📣 CONFERENCIA \n«Formas y colores en la indumentaria Maya Itza’ y Mopán»Imparte Deyvid Molina \n👥 Actividad Presencial🕙 Horario: 10:00 a.m📆 Fecha: martes 24 de septiembre📍 Dirección: 6ta calle final\, zona 10\, interior Campus UFM \n🚙 Parqueo: tarifa especial de Q40⚠️ Sólo efectivo ⚠️ \nℹ️ Más información:Whatsapp: (502) 3614-7252Correo: educacion@museoixchel.org
URL:https://museoixchel.org/evento/formas-y-colores/
LOCATION:Museo Ixchel\, 6ta. calle final zona 10\, Guatemala\, Guatemala\, 01010\, Guatemala
CATEGORIES:Conferencias
ATTACH;FMTTYPE=image/jpeg:https://museoixchel.org/wp-content/uploads/2024/09/24-septiembre_evento.jpg
ORGANIZER;CN="Museo Ixchel":MAILTO:educacion@museoixchel.org
END:VEVENT
END:VCALENDAR