BEGIN:VCALENDAR
VERSION:2.0
PRODID:-//MUSEO IXCHEL - ECPv6.15.11//NONSGML v1.0//EN
CALSCALE:GREGORIAN
METHOD:PUBLISH
X-WR-CALNAME:MUSEO IXCHEL
X-ORIGINAL-URL:https://museoixchel.org
X-WR-CALDESC:Eventos para MUSEO IXCHEL
REFRESH-INTERVAL;VALUE=DURATION:PT1H
X-Robots-Tag:noindex
X-PUBLISHED-TTL:PT1H
BEGIN:VTIMEZONE
TZID:America/Guatemala
BEGIN:STANDARD
TZOFFSETFROM:-0600
TZOFFSETTO:-0600
TZNAME:CST
DTSTART:20250101T000000
END:STANDARD
END:VTIMEZONE
BEGIN:VEVENT
DTSTART;TZID=America/Guatemala:20260414T090000
DTEND;TZID=America/Guatemala:20260417T170000
DTSTAMP:20260422T090903
CREATED:20260409T150851Z
LAST-MODIFIED:20260409T152058Z
UID:6656-1776157200-1776445200@museoixchel.org
SUMMARY:La Máquina de los Sueños
DESCRIPTION:Visita las galerías del Museo Ixchel y descubre la muestra \n🎨 “La máquina de los sueños” – Samuel Escobar\n📅 Fecha: Del 14 al 17 de abril\n🕓 Horario: De 9:00 a.m. a 5:00 p.m.\n📍 Lugar: Museo Ixchel (6ta calle final\, zona 10\, interior campus Universidad Francisco Marroquín). \n🎟️ Entrada gratuita.\n🌍 Arte guatemalteco que ha llegado a escenarios como el Louvre y el Prado. \nℹ️ Mayor información:\nWhatsapp (502) 3614-7252\nCorreo: educacion@museoixchel.org
URL:https://museoixchel.org/evento/la-maquina-de-los-suenos/
LOCATION:Museo Ixchel\, 6ta. calle final zona 10\, Guatemala\, Guatemala\, 01010\, Guatemala
CATEGORIES:Exposiciones
ATTACH;FMTTYPE=image/jpeg:https://museoixchel.org/wp-content/uploads/2026/04/exposicion_abril.jpg
ORGANIZER;CN="Museo Ixchel":MAILTO:educacion@museoixchel.org
END:VEVENT
END:VCALENDAR