BEGIN:VCALENDAR
VERSION:2.0
PRODID:-//MUSEO IXCHEL - ECPv6.15.11//NONSGML v1.0//EN
CALSCALE:GREGORIAN
METHOD:PUBLISH
X-WR-CALNAME:MUSEO IXCHEL
X-ORIGINAL-URL:https://museoixchel.org
X-WR-CALDESC:Eventos para MUSEO IXCHEL
REFRESH-INTERVAL;VALUE=DURATION:PT1H
X-Robots-Tag:noindex
X-PUBLISHED-TTL:PT1H
BEGIN:VTIMEZONE
TZID:America/Guatemala
BEGIN:STANDARD
TZOFFSETFROM:-0600
TZOFFSETTO:-0600
TZNAME:CST
DTSTART:20240101T000000
END:STANDARD
END:VTIMEZONE
BEGIN:VEVENT
DTSTART;TZID=America/Guatemala:20250423T100000
DTEND;TZID=America/Guatemala:20250423T123000
DTSTAMP:20260422T094919
CREATED:20250411T151644Z
LAST-MODIFIED:20250411T152859Z
UID:5739-1745402400-1745411400@museoixchel.org
SUMMARY:La sabiduría ancestral
DESCRIPTION:CONVERSATORIO«La sabiduría ancestral como modelo sostenible»Fashion Revolution Guatemala \n🔎 Participan:• Carmen Valenzuela – Diseñadora• Violeta Gutiérrez – Curadora Museo Ixchel• Deyvid Molina – Antropólogo \n🔎 Modera:• Eduardo Iboy – Fashion Revolution \n📌 Actividad presencial🕙 HORARIO: 10:00 a.m📆 FECHA: miércoles 23 de abril \nEncuentro de profesionales del diseño\, de la antropología y la conservación para explorar cómo las técnicas textiles tradicionales mayas no sólo promueven el uso consciente de los recursos\, sino que también representan un modelo de producción ético y local. \n🎟️ Entrada libre🚙 Parqueo: tarifa especial de Q40⚠️ Sólo efectivo \nℹ️ Más información:• Whatsapp: (502) 3614-7252• Correo: educacion@museoixchel.org
URL:https://museoixchel.org/evento/la-sabiduria-ancestral/
LOCATION:Museo Ixchel\, 6ta. calle final zona 10\, Guatemala\, Guatemala\, 01010\, Guatemala
CATEGORIES:Conferencias
ATTACH;FMTTYPE=image/jpeg:https://museoixchel.org/wp-content/uploads/2025/04/conversatorio_abril.jpg
ORGANIZER;CN="Museo Ixchel":MAILTO:educacion@museoixchel.org
END:VEVENT
END:VCALENDAR