BEGIN:VCALENDAR
VERSION:2.0
PRODID:-//MUSEO IXCHEL - ECPv6.15.11//NONSGML v1.0//EN
CALSCALE:GREGORIAN
METHOD:PUBLISH
X-WR-CALNAME:MUSEO IXCHEL
X-ORIGINAL-URL:https://museoixchel.org
X-WR-CALDESC:Eventos para MUSEO IXCHEL
REFRESH-INTERVAL;VALUE=DURATION:PT1H
X-Robots-Tag:noindex
X-PUBLISHED-TTL:PT1H
BEGIN:VTIMEZONE
TZID:America/Guatemala
BEGIN:STANDARD
TZOFFSETFROM:-0600
TZOFFSETTO:-0600
TZNAME:CST
DTSTART:20230101T000000
END:STANDARD
END:VTIMEZONE
BEGIN:VEVENT
DTSTART;TZID=America/Guatemala:20241206T160000
DTEND;TZID=America/Guatemala:20241206T170000
DTSTAMP:20260422T112542
CREATED:20241122T155737Z
LAST-MODIFIED:20241122T171844Z
UID:4381-1733500800-1733504400@museoixchel.org
SUMMARY:Posada de Museo Ixchel
DESCRIPTION:✷ TRADICIONAL ✷⭐ Posada del Museo Ixchel 🎄Desde 1982 🔔 \nAcompañemos la tradicional posada en su recorrido por las instalaciones de la UFM \n💸 Ingreso a toda la actividad: Q10📆 Fecha: viernes 6 diciembre⏰ Recorrido: 16:00 a 17:00 hrs \n🚗 Parqueo: tarifa especial de Q40 en efectivo para todo el eventoℹ️ Mayor información:💬 Whatsapp 3614-7252📧 Correo educacion@museoixchel.org
URL:https://museoixchel.org/evento/posada-de-museo-ixchel/
LOCATION:Museo Ixchel\, 6ta. calle final zona 10\, Guatemala\, Guatemala\, 01010\, Guatemala
CATEGORIES:Exposiciones
ATTACH;FMTTYPE=image/jpeg:https://museoixchel.org/wp-content/uploads/2024/11/6-dic_posada.jpg
ORGANIZER;CN="Museo Ixchel":MAILTO:educacion@museoixchel.org
END:VEVENT
END:VCALENDAR