BEGIN:VCALENDAR
VERSION:2.0
PRODID:-//MUSEO IXCHEL - ECPv6.15.11//NONSGML v1.0//EN
CALSCALE:GREGORIAN
METHOD:PUBLISH
X-WR-CALNAME:MUSEO IXCHEL
X-ORIGINAL-URL:https://museoixchel.org
X-WR-CALDESC:Eventos para MUSEO IXCHEL
REFRESH-INTERVAL;VALUE=DURATION:PT1H
X-Robots-Tag:noindex
X-PUBLISHED-TTL:PT1H
BEGIN:VTIMEZONE
TZID:America/Guatemala
BEGIN:STANDARD
TZOFFSETFROM:-0600
TZOFFSETTO:-0600
TZNAME:CST
DTSTART:20230101T000000
END:STANDARD
END:VTIMEZONE
BEGIN:VEVENT
DTSTART;TZID=America/Guatemala:20240919T180000
DTEND;TZID=America/Guatemala:20240919T210000
DTSTAMP:20260422T104112
CREATED:20240907T142944Z
LAST-MODIFIED:20241004T152634Z
UID:4183-1726768800-1726779600@museoixchel.org
SUMMARY:Save the Date - Intangible
DESCRIPTION:📣 SAVE THE DATE\n“Intangible” \n• Regina Lacape • Gabriella Sallés \n👥 Cóctel Inauguración\n🕙 Horario: 6:00 p.m\n📆 Fecha: jueves 19 de septiembre\n📍 Dirección: 6ta calle final\, zona 10\, interior campus UFM \nExposición abierta del 17 al 27 de septiembre. \n🚙 Parqueo: tarifa especial de Q40\n⚠️ Sólo efectivo ⚠️ \nℹ️ Más información:\nWhatsapp: (502) 3614-7252\nCorreo: educacion@museoixchel.org
URL:https://museoixchel.org/evento/save-the-date-intangible/
LOCATION:Museo Ixchel\, 6ta. calle final zona 10\, Guatemala\, Guatemala\, 01010\, Guatemala
CATEGORIES:Exposiciones
ATTACH;FMTTYPE=image/jpeg:https://museoixchel.org/wp-content/uploads/2024/09/19-septiembre_evento.jpg
ORGANIZER;CN="Museo Ixchel":MAILTO:educacion@museoixchel.org
END:VEVENT
END:VCALENDAR