BEGIN:VCALENDAR
VERSION:2.0
PRODID:-//MUSEO IXCHEL - ECPv6.15.11//NONSGML v1.0//EN
CALSCALE:GREGORIAN
METHOD:PUBLISH
X-WR-CALNAME:MUSEO IXCHEL
X-ORIGINAL-URL:https://museoixchel.org
X-WR-CALDESC:Eventos para MUSEO IXCHEL
REFRESH-INTERVAL;VALUE=DURATION:PT1H
X-Robots-Tag:noindex
X-PUBLISHED-TTL:PT1H
BEGIN:VTIMEZONE
TZID:America/Guatemala
BEGIN:STANDARD
TZOFFSETFROM:-0600
TZOFFSETTO:-0600
TZNAME:CST
DTSTART:20230101T000000
END:STANDARD
END:VTIMEZONE
BEGIN:VEVENT
DTSTART;TZID=America/Guatemala:20241005T090000
DTEND;TZID=America/Guatemala:20241026T130000
DTSTAMP:20260422T111905
CREATED:20240920T155400Z
LAST-MODIFIED:20240924T210220Z
UID:4220-1728118800-1729947600@museoixchel.org
SUMMARY:Tejido en Telar de Cintura
DESCRIPTION:🚨¡ÚLTIMO CURSO DE TELAR DE CINTURA 2024! 🎊 \n📆 A partir del sábado 5 de octubre\n⌛️ 4 sesiones\n🕘 Horario de 9:00 a 13:00 \n✅ Donación: Q720 (incluye materiales)\n⚠️ CUPO LIMITADO\nÚltimo día de inscripción miércoles 2 de octubre \nℹ️ Mayor información:\n💬 Whatsapp 3614-7252\n📧 Correo educacion@museoixchel.org
URL:https://museoixchel.org/evento/tejido-en-telar-de-cintura-10/
LOCATION:Museo Ixchel\, 6ta. calle final zona 10\, Guatemala\, Guatemala\, 01010\, Guatemala
CATEGORIES:Talleres
ATTACH;FMTTYPE=image/jpeg:https://museoixchel.org/wp-content/uploads/2024/09/5-octubre.jpg
ORGANIZER;CN="Museo Ixchel":MAILTO:educacion@museoixchel.org
END:VEVENT
END:VCALENDAR