BEGIN:VCALENDAR
VERSION:2.0
PRODID:-//MUSEO IXCHEL - ECPv6.15.11//NONSGML v1.0//EN
CALSCALE:GREGORIAN
METHOD:PUBLISH
X-WR-CALNAME:MUSEO IXCHEL
X-ORIGINAL-URL:https://museoixchel.org
X-WR-CALDESC:Eventos para MUSEO IXCHEL
REFRESH-INTERVAL;VALUE=DURATION:PT1H
X-Robots-Tag:noindex
X-PUBLISHED-TTL:PT1H
BEGIN:VTIMEZONE
TZID:America/Guatemala
BEGIN:STANDARD
TZOFFSETFROM:-0600
TZOFFSETTO:-0600
TZNAME:CST
DTSTART:20230101T000000
END:STANDARD
END:VTIMEZONE
BEGIN:VEVENT
DTSTART;TZID=America/Guatemala:20240907T090000
DTEND;TZID=America/Guatemala:20240907T130000
DTSTAMP:20260422T104952
CREATED:20240823T154541Z
LAST-MODIFIED:20240903T013428Z
UID:4132-1725699600-1725714000@museoixchel.org
SUMMARY:Tour de Museos en Trolley
DESCRIPTION:👁️‍🗨️ TOUR DE MUSEOS EN TROLLEY \nMuseo de la Merced – Museo Ixchel del Traje Indígena📆 FECHA: Sábado 7 de septiembre❇️ COSTO: Q150.00 Niños – Q165.00 Adultos🕔 HORA: 9:00 a 13:00hrs \n📍PUNTO DE INICIO: Museo Ixchel del Traje Indígena \n🌞 Disfruta de un recorrido por dos museos emblemáticos de la ciudad\, el Museo Ixchel del Traje Indígena y el Museo de la Merced 🌞Con el apoyo de Trolley Guatemala \n✅ ¿QUÉ INCLUYE?• Ingreso al Museo Ixchel y Museo de la Merced• Transporte en trolley entre museos• Visitas guiadas en ambos museos• Staff de apoyo• Parqueo seguro en campus UFM \nℹ️ Mayor información:💬 WhatsApp (+502) 3614-7252
URL:https://museoixchel.org/evento/tour-familiar/
LOCATION:Museo Ixchel\, 6ta. calle final zona 10\, Guatemala\, Guatemala\, 01010\, Guatemala
CATEGORIES:Exposiciones
ATTACH;FMTTYPE=image/jpeg:https://museoixchel.org/wp-content/uploads/2024/08/07-septiembre_trolley_evento.jpg
ORGANIZER;CN="Museo Ixchel":MAILTO:educacion@museoixchel.org
END:VEVENT
END:VCALENDAR